BEGIN:VCALENDAR
VERSION:2.0
PRODID:-//Klangforum Wien - ECPv5.10.0//NONSGML v1.0//EN
CALSCALE:GREGORIAN
METHOD:PUBLISH
X-WR-CALNAME:Klangforum Wien
X-ORIGINAL-URL:https://alt2.klangforum.at
X-WR-CALDESC:Veranstaltungen für Klangforum Wien
BEGIN:VTIMEZONE
TZID:Europe/Berlin
BEGIN:DAYLIGHT
TZOFFSETFROM:+0100
TZOFFSETTO:+0200
TZNAME:CEST
DTSTART:20230326T010000
END:DAYLIGHT
BEGIN:STANDARD
TZOFFSETFROM:+0200
TZOFFSETTO:+0100
TZNAME:CET
DTSTART:20231029T010000
END:STANDARD
END:VTIMEZONE
BEGIN:VEVENT
DTSTART;TZID=Europe/Berlin:20230304T190000
DTEND;TZID=Europe/Berlin:20230304T203000
DTSTAMP:20260424T223335
CREATED:20221130T133507Z
LAST-MODIFIED:20230201T135223Z
UID:12731-1677956400-1677961800@alt2.klangforum.at
SUMMARY:50 Jahre SIEMENS Musikstiftung
DESCRIPTION:50 Jahre SIEMENS Musikstiftung \n   März 4\,\n19.00 - \n20.30 \n Pierre Boulez Saal\, Berlin\, Deutschland \nVor 50 Jahren erhielt Benjamin Britten den ersten Ernst von Siemens Musikpreis. Seither hat die Ernst von Siemens Musikstiftung jedes Jahr eine herausragende Persönlichkeit des internationalen Musiklebens ausgezeichnet – die Liste der Geehrten liest sich wie eine Geschichte der Musik des 20. und des 21. Jahrhunderts. Die Stiftung und der Pierre Boulez Saal feiern dieses Jubiläum gemeinsam mit zwei Konzerten\, in denen Werke von Preisträger:innen aus fünf Jahrzehnten zu hören sind. Das Program des ersten Abends bestreiten das Klangforum Wien und sein langjähriger künstlerischer Partner Emilio Pomàrico. \nZu den TicketsZum VeranstalterOlga Neuwirth \nVampyrotheone (1995) \nAlex Paxton \nShrimp BIT Babyface (2022) \nBeat Furrer \nLinea dell’orizzonte (2012) \nLuciano Berio \nChemins II (su Sequenza VI) (1967) \nFriedrich Cerha \nJahrlang ins Ungewisse hinab (1995/96) \nEmilio Pomàrico \nOlga Neuwirth | Alex Paxton | Beat Furrer | Luciano Berio | Friedrich Cerha
URL:https://alt2.klangforum.at/kalender/50-jahre-siemens-musikstiftung/
LOCATION:Pierre Boulez Saal\, Berlin\, Deutschland
CATEGORIES:Konzert
ATTACH;FMTTYPE=image/x-citrix-jpeg:https://alt2.klangforum.at/wp-content/uploads/2022/11/download.jpeg
END:VEVENT
END:VCALENDAR