BEGIN:VCALENDAR
VERSION:2.0
PRODID:-//Klangforum Wien - ECPv5.10.0//NONSGML v1.0//EN
CALSCALE:GREGORIAN
METHOD:PUBLISH
X-WR-CALNAME:Klangforum Wien
X-ORIGINAL-URL:https://alt2.klangforum.at/en/
X-WR-CALDESC:Events for Klangforum Wien
BEGIN:VTIMEZONE
TZID:Europe/Berlin
BEGIN:DAYLIGHT
TZOFFSETFROM:+0100
TZOFFSETTO:+0200
TZNAME:CEST
DTSTART:20230326T010000
END:DAYLIGHT
BEGIN:STANDARD
TZOFFSETFROM:+0200
TZOFFSETTO:+0100
TZNAME:CET
DTSTART:20231029T010000
END:STANDARD
END:VTIMEZONE
BEGIN:VEVENT
DTSTART;TZID=Europe/Berlin:20230411T180000
DTEND;TZID=Europe/Berlin:20230411T193000
DTSTAMP:20260424T175207
CREATED:20220325T111449Z
LAST-MODIFIED:20230118T165205Z
UID:10941-1681236000-1681241400@alt2.klangforum.at
SUMMARY:Vanishing Point
DESCRIPTION:Vanishing Point \n   April 11\,\n18.00 - \n19.30 \n Wiener Konzerthaus\, Mozart-Saal\, Vienna\, Austria \n80 years ago\, the Jewish ghetto in Warsaw was razed to the ground. Few were able to escape; music was silenced. Bernhard Lang evokes this sound of silence. \nThe concert from our cycle series BRUCH.PUNKT will take place at two starting times: 6:00 pm + 8:30 pm. \nBetween the concerts – FERMATE\nIn our new conversation format\, personalities from various disciplines together with artists and musicians question what they have just heard. \nGet your ticket hereWebsite EventPeter Ruzicka\n– STILL. Memorial für Posaune und Kammerensemble\nGalina Ustvolskaya\n– Komposition Nr.1 „Dona nobis pacem”\nBernhard Lang\n– A Song for Rachela (WP) * \nSarah Maria Sun\, voice\nMikael Rudolfsson\, trombone \nLorenz C. Aichner \nPeter Ruzicka | Galina Ustvolskaya | Bernhard Lang \n* WP Bernhard Lang A Song for Rachela kindly supported by:
URL:https://alt2.klangforum.at/en/kalender/vanishing-point-2/
LOCATION:Wiener Konzerthaus\, Mozart-Saal\, Lothringerstraße 20\, Vienna\, 1030\, Austria
CATEGORIES:Bruch.Punkt Cycle 2022/23,Subscription Series
ATTACH;FMTTYPE=image/x-citrix-jpeg:https://alt2.klangforum.at/wp-content/uploads/2022/03/KF-Kalender1070x710-6-1.jpg
END:VEVENT
END:VCALENDAR