BEGIN:VCALENDAR
VERSION:2.0
PRODID:-//Klangforum Wien - ECPv5.10.0//NONSGML v1.0//EN
CALSCALE:GREGORIAN
METHOD:PUBLISH
X-WR-CALNAME:Klangforum Wien
X-ORIGINAL-URL:https://alt2.klangforum.at/en/
X-WR-CALDESC:Events for Klangforum Wien
BEGIN:VTIMEZONE
TZID:Europe/Berlin
BEGIN:DAYLIGHT
TZOFFSETFROM:+0100
TZOFFSETTO:+0200
TZNAME:CEST
DTSTART:20230326T010000
END:DAYLIGHT
BEGIN:STANDARD
TZOFFSETFROM:+0200
TZOFFSETTO:+0100
TZNAME:CET
DTSTART:20231029T010000
END:STANDARD
END:VTIMEZONE
BEGIN:VEVENT
DTSTART;TZID=Europe/Berlin:20230619T193000
DTEND;TZID=Europe/Berlin:20230619T203000
DTSTAMP:20260424T125019
CREATED:20230302T100714Z
LAST-MODIFIED:20230302T103836Z
UID:13289-1687203000-1687206600@alt2.klangforum.at
SUMMARY:The Tower of Babel II
DESCRIPTION:The Tower of Babel II \n   June 19\,\n19.30 - \n20.30 \n Wiener Konzerthaus\, Mozart-Saal\, Vienna\, Austria \nInitiated by Klangforum Wien and Wiener Konzerthaus\, co-produced by AFF Projects. \nFree seat selection. \nPart of the 40th “Internationales Musikfest” of Wiener Konzerthaus \nAlso available as Package together with The Tower of Babel I (18 June) \nGet your ticket hereWebsite EventDariya Maminova\nI don’t know whether the Earth is spinning or not … \nMikheil Shugliashvili\nSextett für zwei Klaviere und Streichquartett (1973) \n*** \nAnna Korsun\nUCHT (2015) \nAsia Ahmetjanova\nBeth \nAram Hovhannisyan\nStrophes – Segments (2015–2016) \n  \nMarkus Deuter\, oboe\nMichele Marelli\, bass clarinet\nAnders Nyqvist\, trumpet\nKrassimir Sterev\, accordion\nDarya Maminova\, voice \nVitali Alekseenok \nDariya Maminova | Mikheil Shugliashvili | Anna Korsun | Asia Ahmetjanova | Aram Hovhannisyan
URL:https://alt2.klangforum.at/en/kalender/the-tower-of-babel-ii/
LOCATION:Wiener Konzerthaus\, Mozart-Saal\, Lothringerstraße 20\, Vienna\, 1030\, Austria
CATEGORIES:Concert,Festival
ATTACH;FMTTYPE=image/x-citrix-jpeg:https://alt2.klangforum.at/wp-content/uploads/2022/11/02_Ensemble_Klangforum_Wien_HR_c_Tina_Herzl-1-scaled-2.jpg
END:VEVENT
END:VCALENDAR