BEGIN:VCALENDAR
VERSION:2.0
PRODID:-//Klangforum Wien - ECPv5.10.0//NONSGML v1.0//EN
CALSCALE:GREGORIAN
METHOD:PUBLISH
X-WR-CALNAME:Klangforum Wien
X-ORIGINAL-URL:https://alt2.klangforum.at/en/
X-WR-CALDESC:Events for Klangforum Wien
BEGIN:VTIMEZONE
TZID:Europe/Berlin
BEGIN:DAYLIGHT
TZOFFSETFROM:+0100
TZOFFSETTO:+0200
TZNAME:CEST
DTSTART:20230326T010000
END:DAYLIGHT
BEGIN:STANDARD
TZOFFSETFROM:+0200
TZOFFSETTO:+0100
TZNAME:CET
DTSTART:20231029T010000
END:STANDARD
END:VTIMEZONE
BEGIN:VEVENT
DTSTART;TZID=Europe/Berlin:20230618T193000
DTEND;TZID=Europe/Berlin:20230618T203000
DTSTAMP:20260422T102904
CREATED:20230302T102634Z
LAST-MODIFIED:20230302T103033Z
UID:13303-1687116600-1687120200@alt2.klangforum.at
SUMMARY:The Tower of Babel I
DESCRIPTION:The Tower of Babel I \n   June 18\,\n19.30 - \n20.30 \n Wiener Konzerthaus\, Großer Saal\, Vienna\, Austria \nInitiated by Klangforum Wien and Wiener Konzerthaus\, co-produced by AFF Projects. \nFree seat selection. \nPart of the 40th “Internationale Musikfest” of Wiener Konzerthaus \nAlso available as Package together with The Tower of Babel II (19 June) \nGet your ticket hereWebsite EventAge Veeroos\n»ich sehe Federn wachsen im Sand der Wüsten …« \nValery Voronov\nGigantomania \nAlexey Sysoev\nCol Pugno \n*** \nJamilia Jazylbekova\nLes illusions de l’âme \nAlexander Khubeev\nThe Codex of Thoughtcrimes (Revidierte Fassung) (UA) \n  \nKlangforum Wien\nCantando Admont\nBjörn Wilker\, percussion \nBas Wiegers \nAge Veeroos | Valery Voronov | Alexey Sysoev | Jamilia Jazylbekova | Alexander Khubeev
URL:https://alt2.klangforum.at/en/kalender/the-tower-of-babel-i/
LOCATION:Wiener Konzerthaus\, Großer Saal\, Lothringerstraße 20\, Vienna\, 1030\, Austria
CATEGORIES:Concert,Festival
ATTACH;FMTTYPE=image/x-citrix-jpeg:https://alt2.klangforum.at/wp-content/uploads/2022/11/02_Ensemble_Klangforum_Wien_HR_c_Tina_Herzl-1-scaled-2.jpg
END:VEVENT
END:VCALENDAR