BEGIN:VCALENDAR
VERSION:2.0
PRODID:-//Klangforum Wien - ECPv5.10.0//NONSGML v1.0//EN
CALSCALE:GREGORIAN
METHOD:PUBLISH
X-WR-CALNAME:Klangforum Wien
X-ORIGINAL-URL:https://alt2.klangforum.at/en/
X-WR-CALDESC:Events for Klangforum Wien
BEGIN:VTIMEZONE
TZID:Europe/Berlin
BEGIN:DAYLIGHT
TZOFFSETFROM:+0100
TZOFFSETTO:+0200
TZNAME:CEST
DTSTART:20210328T010000
END:DAYLIGHT
BEGIN:STANDARD
TZOFFSETFROM:+0200
TZOFFSETTO:+0100
TZNAME:CET
DTSTART:20211031T010000
END:STANDARD
END:VTIMEZONE
BEGIN:VEVENT
DTSTART;TZID=Europe/Berlin:20210112T193000
DTEND;TZID=Europe/Berlin:20210112T203000
DTSTAMP:20260425T025017
CREATED:20201026T201053Z
LAST-MODIFIED:20201209T132025Z
UID:3296-1610479800-1610483400@alt2.klangforum.at
SUMMARY:Suprasound
DESCRIPTION:7.30 pm\n         \n\n\nPoles that are far apart – connected by a mind that seeks the beautiful in the depths of a lavish sound and in the directness of fearless speech. \n\n\n\n\n \n\n\n\n\n          Program:\n         \n\n\n\n\n\n \n\n\n\nKlaus Lang— pythagoräischer Fächer5k HD— New work for band and ensemble\, World Premiere \n\n\n\nKlaus Lang\, organ5K HDMarkus Wallner\, sound designFinnegan Downie Dear\, conductor \n\n\n\n\n          \n          \n         \n	\n		\n		FacebookTwitterLinkedInWhatsAppVkEmail
URL:https://alt2.klangforum.at/en/kalender/suprasound/
LOCATION:Wiener Konzerthaus\, Großer Saal\, Lothringerstraße 20\, Vienna\, 1030\, Austria
CATEGORIES:Subscription Series
ATTACH;FMTTYPE=image/jpeg:https://alt2.klangforum.at/wp-content/uploads/2020/09/5KHD_ArenaWien_29_10.jpg
END:VEVENT
END:VCALENDAR