BEGIN:VCALENDAR
VERSION:2.0
PRODID:-//Klangforum Wien - ECPv5.10.0//NONSGML v1.0//EN
CALSCALE:GREGORIAN
METHOD:PUBLISH
X-WR-CALNAME:Klangforum Wien
X-ORIGINAL-URL:https://alt2.klangforum.at/en/
X-WR-CALDESC:Events for Klangforum Wien
BEGIN:VTIMEZONE
TZID:Europe/Berlin
BEGIN:DAYLIGHT
TZOFFSETFROM:+0100
TZOFFSETTO:+0200
TZNAME:CEST
DTSTART:20220327T010000
END:DAYLIGHT
BEGIN:STANDARD
TZOFFSETFROM:+0200
TZOFFSETTO:+0100
TZNAME:CET
DTSTART:20221030T010000
END:STANDARD
END:VTIMEZONE
BEGIN:VEVENT
DTSTART;TZID=Europe/Berlin:20220420T180000
DTEND;TZID=Europe/Berlin:20220420T220000
DTSTAMP:20260424T123810
CREATED:20210819T125915Z
LAST-MODIFIED:20211123T130848Z
UID:7290-1650477600-1650492000@alt2.klangforum.at
SUMMARY:Stars
DESCRIPTION:Stars \n   April 20\,\n18.00 - \n22.00 \n Wiener Konzerthaus\, Mozart-Saal\, Vienna\, Austria \nProcession – what an open\, eclectic concept! Enno Poppe is heading his works with strong titles\, without limiting himself to any single interpretation of meaning. Ideal circumstances for a procession: processing\, profound\, open and unbiased. \nAfter the concert — FERMATE \nGet your ticket hereWebsite EventClara Iannotta\n— a stir among the starts\, a making way\nEnno Poppe\n— Prozession EA \nEnno Poppe \nClara Iannotta | Enno Poppe
URL:https://alt2.klangforum.at/en/kalender/sterne/
LOCATION:Wiener Konzerthaus\, Mozart-Saal\, Lothringerstraße 20\, Vienna\, 1030\, Austria
CATEGORIES:PROCESSION Zyklus 2021/22,Subscription Series
ATTACH;FMTTYPE=image/gif:https://alt2.klangforum.at/wp-content/uploads/2021/05/KFW_Procession_Header3_4k-1-scaled.gif
END:VEVENT
END:VCALENDAR