BEGIN:VCALENDAR
VERSION:2.0
PRODID:-//Klangforum Wien - ECPv5.10.0//NONSGML v1.0//EN
CALSCALE:GREGORIAN
METHOD:PUBLISH
X-WR-CALNAME:Klangforum Wien
X-ORIGINAL-URL:https://alt2.klangforum.at/en/
X-WR-CALDESC:Events for Klangforum Wien
BEGIN:VTIMEZONE
TZID:Europe/Berlin
BEGIN:DAYLIGHT
TZOFFSETFROM:+0100
TZOFFSETTO:+0200
TZNAME:CEST
DTSTART:20230326T010000
END:DAYLIGHT
BEGIN:STANDARD
TZOFFSETFROM:+0200
TZOFFSETTO:+0100
TZNAME:CET
DTSTART:20231029T010000
END:STANDARD
END:VTIMEZONE
BEGIN:VEVENT
DTSTART;TZID=Europe/Berlin:20230217T203000
DTEND;TZID=Europe/Berlin:20230217T220000
DTSTAMP:20260424T172039
CREATED:20220325T111738Z
LAST-MODIFIED:20220325T114835Z
UID:10965-1676665800-1676671200@alt2.klangforum.at
SUMMARY:Speicher
DESCRIPTION:Speicher \n   February 17\,\n20.30 - \n22.00 \n Wiener Konzerthaus\, Mozart-Saal\, Vienna\, Austria \n«Even inside a storage space\, things always become untidy». Hard on the track of the unforeseeable\, Enno Poppe’s masterpiece «Speicher» is an invitation to make out the sparkle of what’s new in a seemingly well-known jumble – by way of listening. \nThe concert from our cycle series BRUCH.PUNKT will take place at two starting times: 6:00 pm + 8:30 pm. \nBetween the concerts – FERMATE\nIn our new conversation format\, personalities from various disciplines together with artists and musicians question what they have just heard. \nGet your ticket hereWebsite EventEnno Poppe\n– Speicher I-VI \nBas Wiegers \nEnno Poppe
URL:https://alt2.klangforum.at/en/kalender/speicher/
LOCATION:Wiener Konzerthaus\, Mozart-Saal\, Lothringerstraße 20\, Vienna\, 1030\, Austria
CATEGORIES:Bruch.Punkt Cycle 2022/23,Subscription Series
ATTACH;FMTTYPE=image/x-citrix-jpeg:https://alt2.klangforum.at/wp-content/uploads/2022/03/KF-Kalender1070x710-4-2.jpg
END:VEVENT
END:VCALENDAR