BEGIN:VCALENDAR
VERSION:2.0
PRODID:-//Klangforum Wien - ECPv5.10.0//NONSGML v1.0//EN
CALSCALE:GREGORIAN
METHOD:PUBLISH
X-WR-CALNAME:Klangforum Wien
X-ORIGINAL-URL:https://alt2.klangforum.at/en/
X-WR-CALDESC:Events for Klangforum Wien
BEGIN:VTIMEZONE
TZID:Europe/Berlin
BEGIN:DAYLIGHT
TZOFFSETFROM:+0100
TZOFFSETTO:+0200
TZNAME:CEST
DTSTART:20220327T010000
END:DAYLIGHT
BEGIN:STANDARD
TZOFFSETFROM:+0200
TZOFFSETTO:+0100
TZNAME:CET
DTSTART:20221030T010000
END:STANDARD
END:VTIMEZONE
BEGIN:VEVENT
DTSTART;TZID=Europe/Berlin:20220201T203000
DTEND;TZID=Europe/Berlin:20220201T203000
DTSTAMP:20260422T120418
CREATED:20220121T090150Z
LAST-MODIFIED:20220201T135420Z
UID:9850-1643747400-1643747400@alt2.klangforum.at
SUMMARY:XIII Ciclo de Música actual de Badajoz
DESCRIPTION:XIII Ciclo de Música actual de Badajoz \n   February 1\,\n20.30 - \n20.30 \n Palacio de Congresos Manuel Rojas\, Badajoz\, Spanien \nKlangforum Wien offers a concert on February 1st at 8:30 p.m. in the Palacio de Congresos de Badajoz\, conducted by composer Mauricio Sotelo. This is done as part of the XIII. Cycle of current music from Badajoz (XIII Ciclo de Música actual de Badajoz). The program includes three works by Mauricio Sotelo (National Music Award 2001)\, one of it\, “De imaginum\, signorum et idearum Composition II”\, is an absolute premiere and was commissioned by the National Center for Musical Diffusion (CNDM). The composer from Granada is accompanied in this repertoire by Olga Neuwirth\, a composer who surprises with her eclecticism; Bernhard Lang\, whose work is inspired by sources as diverse as classical\, jazz\, rock and techno; and Beat Furrer\, co-founder of Klangforum. \nthe thirteenth Cycle of contemporary music is organized by the Badajoz Philharmonic Society in co-production with the CNDM. \nGet your ticket hereWebsite EventMauricio Sotelo\n— De Imaginium\, signorum\, et idearum compositione I\nOlga Neuwirth\n— CoronAtion: io sono ferito ahimé\nMauricio Sotelo \n— De Magia\nBernhard Lang\n— DW 21\nMauricio Sotelo\n— Imaginum\, signorum\, et idearum compositione II (premiere)\nBeat Furrer\n— Klavierquartett (premiere) \nMauricio Sotelo  \nMauricio Sotelo | Olga Neuwirth | Bernhard Lang | Beat Furrer
URL:https://alt2.klangforum.at/en/kalender/sofia-auditorio-400/
LOCATION:Palacio de Congresos Manuel Rojas\, Badajoz\, Spanien
CATEGORIES:Concert
ATTACH;FMTTYPE=image/x-citrix-jpeg:https://alt2.klangforum.at/wp-content/uploads/2022/01/Badajoz_Palacio-de-Congresoso_900x600px.jpg
END:VEVENT
END:VCALENDAR