BEGIN:VCALENDAR
VERSION:2.0
PRODID:-//Klangforum Wien - ECPv5.10.0//NONSGML v1.0//EN
CALSCALE:GREGORIAN
METHOD:PUBLISH
X-WR-CALNAME:Klangforum Wien
X-ORIGINAL-URL:https://alt2.klangforum.at/en/
X-WR-CALDESC:Events for Klangforum Wien
BEGIN:VTIMEZONE
TZID:Europe/Berlin
BEGIN:DAYLIGHT
TZOFFSETFROM:+0100
TZOFFSETTO:+0200
TZNAME:CEST
DTSTART:20220327T010000
END:DAYLIGHT
BEGIN:STANDARD
TZOFFSETFROM:+0200
TZOFFSETTO:+0100
TZNAME:CET
DTSTART:20221030T010000
END:STANDARD
END:VTIMEZONE
BEGIN:VEVENT
DTSTART;TZID=Europe/Berlin:20220812T210000
DTEND;TZID=Europe/Berlin:20220812T230000
DTSTAMP:20260424T235059
CREATED:20220617T091822Z
LAST-MODIFIED:20220617T113208Z
UID:12098-1660338000-1660345200@alt2.klangforum.at
SUMMARY:RuhrTriennale – Ich geh unter lauter Schatten
DESCRIPTION:RuhrTriennale – Ich geh unter lauter Schatten \n   August 12\,\n21.00 - \n23.00 \n Jahrhunderthalle Bochum\, Bochum\, Germany \nWhat shapes life more than the idea that it is finite? In reality\, that small step over the threshold at its end is an eternity. In his final work\, Quatre chants pour franchir le seuil (Four Songs to Cross the Threshold)\, Gérard Grisey sends the angel across this ominous threshold first\, then civilisation\, then the voice and\, finally\, the human race. And each time\, the magical membrane seems more porous. \nIn his final composition\, Glaubst du an die Unsterblichkeit der Seele (Do You Believe in the Immortality of the Soul)\, Claude Vivier looks the end of his life directly in the eye. And sketches it precisely as it would later turn out – as if death had moved into his life long ago. Does life also remain present in death? \nIn the musical theatre creation Ich geh unter lauter Schatten (I walk among many shadows)\, by Giacinto Scelsi and Iannis Xenakis\, four women follow these rites of passage\, pushing open doors to related worlds of sound and ideas – and through their transcendental exercises they allow some sense of metaphysical existence to become apparent in earthly life. \nGrisey’s musique liminale (liminal music) is itself a product of transcendence: he enters the limits of the note and creates an entire vocabulary out of these fine microtones. Scelsi had begun this journey into the impalpable interior of the note in meditative séances and opened up a territory that paved the way for both Grisey and Xenakis. In their hands\, stiff\, limiting material becomes soft and lively. Concepts such as interior and exterior\, or life and after-life\, become redundant. In Grisey’s closing lullaby\, at the latest there is an acknowledgement that the drastic gulf between life and death is perhaps only a chimera generated by human fears: one that we have lost the ability to see through – or that we never learned in the first place. \nG. Ricordi & Co. Bühnen- und Musikverlag GmbH\nÉditions Salabert\, Paris\nBoosey & Hawkes · Bote & Bock GmbH \nProduced by Ruhrtriennale. \n\nPhoto: Jörg Brüggemann\nText: RuhrTriennale \n\nGet your ticket hereWebsite EventGérard Grisey\n– Quatre chants pour franchir le seuil \nGiacinto Scelsi\n– Okanagon \nGérard Grisey\n– Tempus ex machina \nClaude Vivier\n– Glaubst Du an die Unsterblichkeit der Seele? (Crois-tu en l‘immortalité de l‘âme?) \nElisabeth Stöppler\, direction \nSophia Burgos\, soprano\nKerstin Avemo\, soprano\nKristina Stanek\, soprano\nCaroline Melzer\, soprano \nEric Houzelot\, voice \nChorwerk Ruhr \nPeter Rundel \nGérard Grisey | Giacinto Scelsi | Claude Vivier
URL:https://alt2.klangforum.at/en/kalender/ruhrtriennale-ich-geh-unter-lauter-schatten-5-3/
LOCATION:Jahrhunderthalle Bochum\, An der Jahrhunderthalle 1\, Bochum\, 44793\, Germany
CATEGORIES:Festival
ATTACH;FMTTYPE=image/x-citrix-jpeg:https://alt2.klangforum.at/wp-content/uploads/2022/05/ruhrtriennale-bochum_jahrhunderthalle-c_joerg_brueggemann04.jpg__1920x1018_q85_crop_subject_location-15742369_subsampling-2_upscale.jpg
END:VEVENT
END:VCALENDAR