BEGIN:VCALENDAR
VERSION:2.0
PRODID:-//Klangforum Wien - ECPv5.10.0//NONSGML v1.0//EN
CALSCALE:GREGORIAN
METHOD:PUBLISH
X-WR-CALNAME:Klangforum Wien
X-ORIGINAL-URL:https://alt2.klangforum.at/en/
X-WR-CALDESC:Events for Klangforum Wien
BEGIN:VTIMEZONE
TZID:Europe/Berlin
BEGIN:DAYLIGHT
TZOFFSETFROM:+0100
TZOFFSETTO:+0200
TZNAME:CEST
DTSTART:20220327T010000
END:DAYLIGHT
BEGIN:STANDARD
TZOFFSETFROM:+0200
TZOFFSETTO:+0100
TZNAME:CET
DTSTART:20221030T010000
END:STANDARD
END:VTIMEZONE
BEGIN:VEVENT
DTSTART;TZID=Europe/Berlin:20220528T200000
DTEND;TZID=Europe/Berlin:20220528T200000
DTSTAMP:20260424T190647
CREATED:20220111T084454Z
LAST-MODIFIED:20220203T092601Z
UID:9322-1653768000-1653768000@alt2.klangforum.at
SUMMARY:Prague Spring Festival II.
DESCRIPTION:a \nPrague Spring Festival II. \n   May 28\,\n20.00 - \n20.00 \n DOX+ Concerthall\, Prague\, Czech Republic \nThe new format Prague Offspring\, which takes place as part of the Prague Spring Festival\, is entirely dedicated to contemporary music. Over a period of two days\, the DOX + Center for Contemporary Art comes to life and presents the latest from the international and local contemporary scene. The Klangforum Wien accompanies the format and acts as an “ensemble-in-residence”. \nThe second concert planned for the new Prague Offspring format will offer a total of five world premieres. Jakub Rataj\, Lucie Vítková\, Adrián Demoč\, Konstantin Heuer and Ian Mikyska were commissioned by the festival to each write a short new composition. The concert will be framed by the music of Composer-in-Residence Olga Neuwirth\, whose impressive Lost Highway Suite for six instrumental soloists\, live electronics and large ensemble from the opera based on David Lynch’s film will round off the evening. \nPhoto: Benedict Markel \nGet your ticket hereWebsite EventOlga Neuwirth\n– Magic Flu-idity\nJakub Rataj\n– Fade no more (commissioned by the Prague Spring)\nLucie Vítková\n– Dream of Others (commissioned by the Prague Spring)\nAdrián Demoč\n– Chord and Trembling (commissioned by the Prague Spring)\nKonstantin Heuer\n– peripety – dissolution (commissioned by the Prague Spring)\nIan Mikyska\n– Dissolving; Settling (commissioned by the Prague Spring)\nPetr Hájek\n– 15 Minutes and 15 Seconds in Galegion City \nBas Wiegers \nNeuwirth | Rataj | Vitková | Democ | Heuer | Mikyska | Hájek
URL:https://alt2.klangforum.at/en/kalender/prague-spring-festival/
LOCATION:DOX+ Concerthall\, Poupětova 1\, Prague\, Czech Republic
CATEGORIES:Concert,Festival
ATTACH;FMTTYPE=image/x-citrix-jpeg:https://alt2.klangforum.at/wp-content/uploads/2022/01/dox_Benedict-Markel.jpg
END:VEVENT
END:VCALENDAR