BEGIN:VCALENDAR
VERSION:2.0
PRODID:-//Klangforum Wien - ECPv5.10.0//NONSGML v1.0//EN
CALSCALE:GREGORIAN
METHOD:PUBLISH
X-WR-CALNAME:Klangforum Wien
X-ORIGINAL-URL:https://alt2.klangforum.at/en/
X-WR-CALDESC:Events for Klangforum Wien
BEGIN:VTIMEZONE
TZID:Europe/Berlin
BEGIN:DAYLIGHT
TZOFFSETFROM:+0100
TZOFFSETTO:+0200
TZNAME:CEST
DTSTART:20210328T010000
END:DAYLIGHT
BEGIN:STANDARD
TZOFFSETFROM:+0200
TZOFFSETTO:+0100
TZNAME:CET
DTSTART:20211031T010000
END:STANDARD
END:VTIMEZONE
BEGIN:VEVENT
DTSTART;TZID=Europe/Berlin:20211008T190000
DTEND;TZID=Europe/Berlin:20211008T201500
DTSTAMP:20260424T124742
CREATED:20210823T124037Z
LAST-MODIFIED:20210823T124039Z
UID:7483-1633719600-1633724100@alt2.klangforum.at
SUMMARY:NYKY Ensemble & Klangforum Wien
DESCRIPTION:8. October 2021\, 19.00  \n\n\nGF Haas– in vain \n\n\n\nConductor: Emilio Pomarico \n\n	\n		\n		FacebookTwitterLinkedInWhatsAppVkEmail
URL:https://alt2.klangforum.at/en/kalender/nyky-ensemble-klangforum-wien/
LOCATION:Helsinki\, Finnland
CATEGORIES:Concert
ATTACH;FMTTYPE=image/x-citrix-jpeg:https://alt2.klangforum.at/wp-content/uploads/2021/08/a2f530b8-1920x1080-siba_081021_nyky_kuvaaja_maarit_kytoharju_2-1200x676-1.jpg
END:VEVENT
END:VCALENDAR