BEGIN:VCALENDAR
VERSION:2.0
PRODID:-//Klangforum Wien - ECPv5.10.0//NONSGML v1.0//EN
CALSCALE:GREGORIAN
METHOD:PUBLISH
X-WR-CALNAME:Klangforum Wien
X-ORIGINAL-URL:https://alt2.klangforum.at/en/
X-WR-CALDESC:Events for Klangforum Wien
BEGIN:VTIMEZONE
TZID:Europe/Berlin
BEGIN:DAYLIGHT
TZOFFSETFROM:+0100
TZOFFSETTO:+0200
TZNAME:CEST
DTSTART:20230326T010000
END:DAYLIGHT
BEGIN:STANDARD
TZOFFSETFROM:+0200
TZOFFSETTO:+0100
TZNAME:CET
DTSTART:20231029T010000
END:STANDARD
END:VTIMEZONE
BEGIN:VEVENT
DTSTART;TZID=Europe/Berlin:20230309T180000
DTEND;TZID=Europe/Berlin:20230309T184500
DTSTAMP:20260424T221331
CREATED:20230303T213927Z
LAST-MODIFIED:20230303T214432Z
UID:13313-1678384800-1678387500@alt2.klangforum.at
SUMMARY:Mu­sica Nova: NYKY En­sem­ble & Klang­fo­rum Wien
DESCRIPTION:Mu­sica Nova: NYKY En­sem­ble & Klang­fo­rum Wien \n   March 9\,\n18.00 - \n18.45 \n Concert Hall of the R Building\, Helsinki\, Finnland \nSince 2021\, Klangforum Wien has forged close links with the NYKY Ensemble\, which is based at the Sibelius Academy of the University of the Arts Helsinki. In the context of its “International Visitor Programme”\, the music students are meeting renowned ensembles in order to expand their own repertoire. On this occasion\, they will work together with the musicians of Klangforum Wien on Helmut Lachenmann’s Concertini\, to be presented in a concert on 09 March. \nGet your ticket hereWebsite EventHelmut Lachenmann \nConcertini (2005) \nBaldur Brönnimann  \nHelmut Lachenmann
URL:https://alt2.klangforum.at/en/kalender/musica-nova-nyky-ensemble-klangforum-wien/
LOCATION:Concert Hall of the R Building\, Helsinki\, Finnland
CATEGORIES:Concert,Festival
ATTACH;FMTTYPE=image/x-citrix-jpeg:https://alt2.klangforum.at/wp-content/uploads/2022/11/02_Ensemble_Klangforum_Wien_HR_c_Tina_Herzl-1-scaled-2.jpg
END:VEVENT
END:VCALENDAR