BEGIN:VCALENDAR
VERSION:2.0
PRODID:-//Klangforum Wien - ECPv5.10.0//NONSGML v1.0//EN
CALSCALE:GREGORIAN
METHOD:PUBLISH
X-WR-CALNAME:Klangforum Wien
X-ORIGINAL-URL:https://alt2.klangforum.at/en/
X-WR-CALDESC:Events for Klangforum Wien
BEGIN:VTIMEZONE
TZID:Europe/Berlin
BEGIN:DAYLIGHT
TZOFFSETFROM:+0100
TZOFFSETTO:+0200
TZNAME:CEST
DTSTART:20210328T010000
END:DAYLIGHT
BEGIN:STANDARD
TZOFFSETFROM:+0200
TZOFFSETTO:+0100
TZNAME:CET
DTSTART:20211031T010000
END:STANDARD
END:VTIMEZONE
BEGIN:VEVENT
DTSTART;TZID=Europe/Berlin:20210227T180000
DTEND;TZID=Europe/Berlin:20210227T180000
DTSTAMP:20260425T011635
CREATED:20201026T201341Z
LAST-MODIFIED:20201209T145050Z
UID:3302-1614448800-1614448800@alt2.klangforum.at
SUMMARY:Molten metal
DESCRIPTION:1st concert: 6 pm2nd concert: 8.30 pm \n\n\nThe nymph Echo suffers to the point of complete disembodiment and becomes pure sound\, which hits this world again in all density and cutting hardness. \n\n\n\n\n \n\n\n\nProgram: \n\n\n\n\n\n \n\n\n\nFrédéric Pattar— OutlyerSalvatore Sciarrino— Agitato cantabile (capriccio sulla lontananza)Pascale Criton— PlisIannis Xenakis— Thalleïn \n\n\n\nChristoph Walder\, hornFlorian Bogner & Peter Böhm\, sound designPierre-André Valade\, conductor \n\n\n	\n		\n		FacebookTwitterLinkedInWhatsAppVkEmail
URL:https://alt2.klangforum.at/en/kalender/molten-metal/
LOCATION:Wiener Konzerthaus\, Lothringerstraße 20\, Wien\, 1030\, Österreich
CATEGORIES:Subscription Series
ATTACH;FMTTYPE=image/jpeg:https://alt2.klangforum.at/wp-content/uploads/2020/09/Sciarrino-Gontier2.jpg
END:VEVENT
END:VCALENDAR