BEGIN:VCALENDAR
VERSION:2.0
PRODID:-//Klangforum Wien - ECPv5.10.0//NONSGML v1.0//EN
CALSCALE:GREGORIAN
METHOD:PUBLISH
X-WR-CALNAME:Klangforum Wien
X-ORIGINAL-URL:https://alt2.klangforum.at/en/
X-WR-CALDESC:Events for Klangforum Wien
BEGIN:VTIMEZONE
TZID:Europe/Berlin
BEGIN:DAYLIGHT
TZOFFSETFROM:+0100
TZOFFSETTO:+0200
TZNAME:CEST
DTSTART:20210328T010000
END:DAYLIGHT
BEGIN:STANDARD
TZOFFSETFROM:+0200
TZOFFSETTO:+0100
TZNAME:CET
DTSTART:20211031T010000
END:STANDARD
END:VTIMEZONE
BEGIN:VEVENT
DTSTART;TZID=Europe/Berlin:20210523T180000
DTEND;TZID=Europe/Berlin:20210523T203000
DTSTAMP:20260424T160411
CREATED:20210512T185218Z
LAST-MODIFIED:20210518T213905Z
UID:3262-1621792800-1621801800@alt2.klangforum.at
SUMMARY:Lonely me
DESCRIPTION:1st concert: 6 pm2nd concert: 8.30 pm \n\n\n\n\nThere are no certainties here: the double-funnel trumpet scans fragile terrain with extreme caution and knows about the innumerable gaps that point to the bottomlessness. \n\n\n\n\n\n\n  \nProgram: \n\n\n  \nGeorges Aperghis— Lopsided Sob UAHanna Eimermacher — Aura 1 UARebecca Saunders— Nether ÖEA \nKrassimir Sterev\, accordeonDonatienne Michel-Dansac\, soprano Bas Wiegers\, conductor \n\n\n\n	\n		\n		FacebookTwitterLinkedInWhatsAppVkEmail
URL:https://alt2.klangforum.at/en/kalender/lonely-me/
LOCATION:Wiener Konzerthaus\, Mozart-Saal\, Lothringerstraße 20\, Vienna\, 1030\, Austria
CATEGORIES:Subscription Series
ATTACH;FMTTYPE=image/jpeg:https://alt2.klangforum.at/wp-content/uploads/2020/09/SAUNDERS_c_-Astrid-Ackermann-scaled.jpg
END:VEVENT
END:VCALENDAR