BEGIN:VCALENDAR
VERSION:2.0
PRODID:-//Klangforum Wien - ECPv5.10.0//NONSGML v1.0//EN
CALSCALE:GREGORIAN
METHOD:PUBLISH
X-WR-CALNAME:Klangforum Wien
X-ORIGINAL-URL:https://alt2.klangforum.at/en/
X-WR-CALDESC:Events for Klangforum Wien
BEGIN:VTIMEZONE
TZID:Europe/Berlin
BEGIN:DAYLIGHT
TZOFFSETFROM:+0100
TZOFFSETTO:+0200
TZNAME:CEST
DTSTART:20230326T010000
END:DAYLIGHT
BEGIN:STANDARD
TZOFFSETFROM:+0200
TZOFFSETTO:+0100
TZNAME:CET
DTSTART:20231029T010000
END:STANDARD
END:VTIMEZONE
BEGIN:VEVENT
DTSTART;TZID=Europe/Berlin:20230520T193000
DTEND;TZID=Europe/Berlin:20230520T210000
DTSTAMP:20260422T120940
CREATED:20230306T144742Z
LAST-MODIFIED:20230306T145132Z
UID:13391-1684611000-1684616400@alt2.klangforum.at
SUMMARY:KunstFestSpiele Herrenhausen: Verwandlung eines Wohnzimmers
DESCRIPTION:KunstFestSpiele Herrenhausen: Verwandlung eines Wohnzimmers \n   May 20\,\n19.30 - \n21.00 \n DHC-Halle\, Hannover\, Deutschland \nAfter its world premiere at the Wiener Festwochen 2023 the musicians of Klangforum Wien join the performance of the production at the KunstFestSpiele Herrenhausen. \nAs recently with the meta-opera Amopera\, the ensemble explores new forms of musical theater. Directed by Toshiki Okada\, and together with the performers of his company chelfitsch\, Klangforum Wien brings Dai Fujikura’s composition to the stage. The spoken language of theater and the music are placed in a new relationship. Both levels of expression enter a dialogue and invent a new vocabulary of musical theater. \nAt the center of the story is a family about to lose their apartment. In this already turbulent situation\, an undefined power enters the situation and takes over their fate. \n  \nA commission by Wiener Festwochen\, produced by Wiener Festwochen and chelfitsch\nCo-produced by KunstFestSpiele Herrenhausen and Holland Festival\nSupported by the Arts Council Tokyo (Tokyo Metropolitan Foundation for History and Culture)\nCooperation with office III’s\, KAJIMOTO\, CUBE Inc.\, nakagoo\, Steep Slope Studio\, YAMABUKI FACTORY\, d&b audiotechnik GmbH & Co. KG\nWith the assistance of The Saison Foundation \nGet your ticket hereWebsite EventToshiki Okada – text\, direction \nDai Fujikura – music \nKlangforum Wien \nchelfitsch \nn/a \nToshiki Okada & chelfitsch | Dai Fujikura | Klangforum Wien
URL:https://alt2.klangforum.at/en/kalender/kunstfestspiele-herrenhausen-verwandlung-eines-wohnzimmers-2/
LOCATION:DHC-Halle\, Hannover\, Deutschland
CATEGORIES:Festival,Musiktheater
ATTACH;FMTTYPE=image/x-png:https://alt2.klangforum.at/wp-content/uploads/2023/03/Metamorphosis-of-a-Living-Room-cMarikoOkazaki.png
END:VEVENT
END:VCALENDAR