BEGIN:VCALENDAR
VERSION:2.0
PRODID:-//Klangforum Wien - ECPv5.10.0//NONSGML v1.0//EN
CALSCALE:GREGORIAN
METHOD:PUBLISH
X-WR-CALNAME:Klangforum Wien
X-ORIGINAL-URL:https://alt2.klangforum.at/en/
X-WR-CALDESC:Events for Klangforum Wien
BEGIN:VTIMEZONE
TZID:Europe/Berlin
BEGIN:DAYLIGHT
TZOFFSETFROM:+0100
TZOFFSETTO:+0200
TZNAME:CEST
DTSTART:20220327T010000
END:DAYLIGHT
BEGIN:STANDARD
TZOFFSETFROM:+0200
TZOFFSETTO:+0100
TZNAME:CET
DTSTART:20221030T010000
END:STANDARD
END:VTIMEZONE
BEGIN:VEVENT
DTSTART;TZID=Europe/Berlin:20220609T203000
DTEND;TZID=Europe/Berlin:20220609T203000
DTSTAMP:20260422T105007
CREATED:20220225T125614Z
LAST-MODIFIED:20220426T135243Z
UID:10343-1654806600-1654806600@alt2.klangforum.at
SUMMARY:Kraanerg – Wiener Festwochen
DESCRIPTION:Kraanerg – Wiener Festwochen \n   June 9\,\n20.30 - \n20.30 \n MuseumsQuartier Halle G\, Vienna\, Austria \n\nGreek composer Iannis Xenakis ranks as a leading and original innovator of music in the second half of the 20th century and\, to mark the 100th anniversary of his birth\, the Wiener Festwochen have invited French choreographer Emmanuelle Huynh to apply her artistic vision to the iconic work Kraanerg. The work was originally composed in 1968 as ballet music for 23 instruments and analogue tape. The title\, which is a compound of two Greek words\, stands for the hopes of the youth movement at the time\, rising up to bring about change in the prevailing political\, social and ideological systems. Under the musical direction of Sylvain Cambreling\, the Klangforum Wien unleashes its dense mass of sound\, loud and furious. For this stage version\, Huynh has collaborated closely with lighting designer Caty Olive. Together\, they give the extraordinary composition a multidisciplinary framework\, entirely in keeping with Xenakis’s own visions. It is a concert packed with energy and rebellion. And filled with utopian ideas. \nText: Wiener Festwochen\nPhoto: Reinhold Friedl \n\nGet your ticket hereWebsite EventIannis Xenakis \n– Kraanerg \nEmmanuelle Huynh\, choreography\nCaty Olive\, light design\nPeter Böhm\, sound direction \nSylvain Cambreling \nIannis Xenakis
URL:https://alt2.klangforum.at/en/kalender/kraanerg-wiener-festwochen-2/
LOCATION:MuseumsQuartier Halle G\, Vienna\, Austria
CATEGORIES:Concert,Festival
ATTACH;FMTTYPE=image/x-citrix-jpeg:https://alt2.klangforum.at/wp-content/uploads/2022/02/Xenakis-Birthday-Party_c_Reinhold-Friedl-1.jpg
END:VEVENT
END:VCALENDAR