BEGIN:VCALENDAR
VERSION:2.0
PRODID:-//Klangforum Wien - ECPv5.10.0//NONSGML v1.0//EN
CALSCALE:GREGORIAN
METHOD:PUBLISH
X-WR-CALNAME:Klangforum Wien
X-ORIGINAL-URL:https://alt2.klangforum.at/en/
X-WR-CALDESC:Events for Klangforum Wien
BEGIN:VTIMEZONE
TZID:Europe/Berlin
BEGIN:DAYLIGHT
TZOFFSETFROM:+0100
TZOFFSETTO:+0200
TZNAME:CEST
DTSTART:20230326T010000
END:DAYLIGHT
BEGIN:STANDARD
TZOFFSETFROM:+0200
TZOFFSETTO:+0100
TZNAME:CET
DTSTART:20231029T010000
END:STANDARD
END:VTIMEZONE
BEGIN:VEVENT
DTSTART;TZID=Europe/Berlin:20230505T180000
DTEND;TZID=Europe/Berlin:20230505T193000
DTSTAMP:20260424T172108
CREATED:20220325T111158Z
LAST-MODIFIED:20220325T120937Z
UID:10929-1683309600-1683315000@alt2.klangforum.at
SUMMARY:Heaven
DESCRIPTION:Heaven \n   May 5\,\n18.00 - \n19.30 \n Wiener Konzerthaus\, Mozart-Saal\, Vienna\, Austria \nThis is about hell which\, time and again\, is tugging at our coattails – and heaven\, masterfully pitching its tent above us\, whatever may be going on. \nThe concert from our cycle series BRUCH.PUNKT will take place at two starting times: 6:00 pm + 8:30 pm. \nBetween the concerts – FERMATE\nIn our new conversation format\, personalities from various disciplines together with artists and musicians question what they have just heard. \nGet your ticket hereWebsite EventLisa Streich\n– HIMMEL\nMauricio Sotelo\n– De Imaginum\, signorum\, et idearum compositione I\nPhilippe Manoury\n– La partition du ciel et de l’enfer pour flute midi\, piano\, piano midi\, ensemble et électronique \nInstitut für Elektronische Musik und Akustik Graz\nVera Fischer\, MIDI-flute\nJoonas Ahonen\, piano\nFlorian Müller\, MIDI-piano \nTim Anderson \nLisa Streich | Mauricio Sotelo | Philippe Manoury
URL:https://alt2.klangforum.at/en/kalender/heaven-2/
LOCATION:Wiener Konzerthaus\, Mozart-Saal\, Lothringerstraße 20\, Vienna\, 1030\, Austria
CATEGORIES:Bruch.Punkt Cycle 2022/23,Subscription Series
ATTACH;FMTTYPE=image/x-citrix-jpeg:https://alt2.klangforum.at/wp-content/uploads/2022/03/KF-Kalender1070x710-7.jpg
END:VEVENT
END:VCALENDAR