BEGIN:VCALENDAR
VERSION:2.0
PRODID:-//Klangforum Wien - ECPv5.10.0//NONSGML v1.0//EN
CALSCALE:GREGORIAN
METHOD:PUBLISH
X-WR-CALNAME:Klangforum Wien
X-ORIGINAL-URL:https://alt2.klangforum.at/en/
X-WR-CALDESC:Events for Klangforum Wien
BEGIN:VTIMEZONE
TZID:Europe/Berlin
BEGIN:DAYLIGHT
TZOFFSETFROM:+0100
TZOFFSETTO:+0200
TZNAME:CEST
DTSTART:20230326T010000
END:DAYLIGHT
BEGIN:STANDARD
TZOFFSETFROM:+0200
TZOFFSETTO:+0100
TZNAME:CET
DTSTART:20231029T010000
END:STANDARD
END:VTIMEZONE
BEGIN:VEVENT
DTSTART;TZID=Europe/Berlin:20230312T193000
DTEND;TZID=Europe/Berlin:20230312T210000
DTSTAMP:20260424T185601
CREATED:20230306T161925Z
LAST-MODIFIED:20230306T163011Z
UID:13409-1678649400-1678654800@alt2.klangforum.at
SUMMARY:Gedenkkonzert für Friedrich Cerha
DESCRIPTION:Gedenkkonzert für Friedrich Cerha \n   March 12\,\n19.30 - \n21.00 \n Wiener Konzerthaus\, Mozart-Saal\, Vienna\, Austria \nKlangforum Wien says a musical farewell to its companion\, patron and inspirer: Friedrich Cerha\, who passed away on 14 February at the age of 96. The ensemble will contribute several movements of his Acht Sätze nach Hölderlin-Fragmenten für Streichsextett (1995) as part of this memorial concert. \nUnforgettable are Cerha’s meticulous attention to detail and utter dedication to beauty of sound\, which had a grip on even the most inhospitable territories of contemporary music. Cerha was and remains a fundamental pillar for the musical essence of Klangforum Wien. \nGet your ticket hereWebsite EventFriedrich Cerha \nFünf Stücke für Klarinette\, Violoncello und Klavier (2000) \nAltes Lied (1948/1951) \nDeux éclats en reflexion (1956) \nZehn Rubaijat des Omar Chajjam (1949–1955) \nSätze Nr. 1\, 5\, 6\, 7\, 8 (Acht Sätze nach Hölderlin-Fragmenten) (1995) \n  \nArnold Schoenberg Choir\nErwin Ortner\, Chief conductor \nKlangforum Wien \nAndreas Schablas\, clarinet \nBruno Weinmeister\, violoncello \nJanna Polyzoides\, piano \nErnst Kovacic\, violin \nMathilde Hoursiangou\, piano \nn/a \nFriedrich Cerha
URL:https://alt2.klangforum.at/en/kalender/gedenkkonzert-fuer-friedrich-cerha/
LOCATION:Wiener Konzerthaus\, Mozart-Saal\, Lothringerstraße 20\, Vienna\, 1030\, Austria
CATEGORIES:Concert
ATTACH;FMTTYPE=image/x-citrix-jpeg:https://alt2.klangforum.at/wp-content/uploads/2022/10/Ensemble_Klangforum-Wien_KFPB_cTina-Herzl.jpg
END:VEVENT
END:VCALENDAR