BEGIN:VCALENDAR
VERSION:2.0
PRODID:-//Klangforum Wien - ECPv5.10.0//NONSGML v1.0//EN
CALSCALE:GREGORIAN
METHOD:PUBLISH
X-WR-CALNAME:Klangforum Wien
X-ORIGINAL-URL:https://alt2.klangforum.at/en/
X-WR-CALDESC:Events for Klangforum Wien
BEGIN:VTIMEZONE
TZID:Europe/Berlin
BEGIN:DAYLIGHT
TZOFFSETFROM:+0100
TZOFFSETTO:+0200
TZNAME:CEST
DTSTART:20230326T010000
END:DAYLIGHT
BEGIN:STANDARD
TZOFFSETFROM:+0200
TZOFFSETTO:+0100
TZNAME:CET
DTSTART:20231029T010000
END:STANDARD
END:VTIMEZONE
BEGIN:VEVENT
DTSTART;TZID=Europe/Berlin:20230313T180000
DTEND;TZID=Europe/Berlin:20230313T193000
DTSTAMP:20260424T172110
CREATED:20220325T111618Z
LAST-MODIFIED:20230112T110055Z
UID:10957-1678730400-1678735800@alt2.klangforum.at
SUMMARY:Programme change: The Fabrication of Light
DESCRIPTION:Programme change: The Fabrication of Light \n   March 13\,\n18.00 - \n19.30 \n Wiener Konzerthaus\, Mozart-Saal\, Vienna\, Austria \nEmilio Pomàrico\, a loyal and influential companion and conductor of Klangforum Wien for many years\, has composed a new work. It is a concert with an introduction\, metamorphoses and coda for the 24 soloists of the Klangforum Wien – tailor-made for the ensemble and highly virtuosic. The artistic director’s plan to adequately and uncompromisingly develop this challenging work in the context of a highly condensed work schedule was too ambitious; Therefore\, together with the composer and conductor Pomàrico\, it was decided to postpone the program of the fifth concert cycle to the next season in order to be able to meet the quality requirements of the audience and the ensemble without a doubt. \nInstead\, on March 13\, 2023\, a transatlantic postcard will be heard: with THE FABRICATION OF LIGHT by Chaya Czernowin\, Klangforum Wien and conductor Johannes Kalitzke will present the core piece from the debut concert at Harvard University in Cambridge (7 February 2023). \nThe concert from our cycle series BRUCH.PUNKT will take place at two starting times: 6:00 pm + 8:30 pm. \nBetween the concerts – FERMATE\nIn our new conversation format\, personalities from various disciplines together with artists and musicians question what they have just heard. \nFermate starts at 7:30 pm. \nGet your ticket hereWebsite EventChaya Czernowin \nThe Fabrication of Light (2020) (EA) \nJohannes Kalitzke \nChaya Czernowin
URL:https://alt2.klangforum.at/en/kalender/fragile-2/
LOCATION:Wiener Konzerthaus\, Mozart-Saal\, Lothringerstraße 20\, Vienna\, 1030\, Austria
CATEGORIES:Bruch.Punkt Cycle 2022/23,Subscription Series
ATTACH;FMTTYPE=image/x-citrix-jpeg:https://alt2.klangforum.at/wp-content/uploads/2022/10/Sujet-Bruch.Punkt_KFPB.jpg
END:VEVENT
END:VCALENDAR