BEGIN:VCALENDAR
VERSION:2.0
PRODID:-//Klangforum Wien - ECPv5.10.0//NONSGML v1.0//EN
CALSCALE:GREGORIAN
METHOD:PUBLISH
X-WR-CALNAME:Klangforum Wien
X-ORIGINAL-URL:https://alt2.klangforum.at/en/
X-WR-CALDESC:Events for Klangforum Wien
BEGIN:VTIMEZONE
TZID:Europe/Berlin
BEGIN:DAYLIGHT
TZOFFSETFROM:+0100
TZOFFSETTO:+0200
TZNAME:CEST
DTSTART:20210328T010000
END:DAYLIGHT
BEGIN:STANDARD
TZOFFSETFROM:+0200
TZOFFSETTO:+0100
TZNAME:CET
DTSTART:20211031T010000
END:STANDARD
END:VTIMEZONE
BEGIN:VEVENT
DTSTART;TZID=Europe/Berlin:20210904T190000
DTEND;TZID=Europe/Berlin:20210904T190000
DTSTAMP:20260424T221159
CREATED:20210816T104512Z
LAST-MODIFIED:20210816T104522Z
UID:7172-1630782000-1630782000@alt2.klangforum.at
SUMMARY:Festival Wratislavia Cantans
DESCRIPTION: \n  \n\n \n\n\n \nGérard Grisey– Talea 15′ \n \n \nArnold Schönberg– Pierrot lunaire op.21 \n \n \nAgata Zubel\, Sopran \n \n \n  \n \n \n  \n\n \n\n \n \n\n\n            \n            \n            \n	\n		\n		FacebookTwitterLinkedInWhatsAppVkEmail
URL:https://alt2.klangforum.at/en/kalender/festival-wratislavia-cantans/
LOCATION:National Forum of Music\, Wroclaw & Lower Silesia\, Polen
CATEGORIES:Concert,Festival
ATTACH;FMTTYPE=image/x-citrix-jpeg:https://alt2.klangforum.at/wp-content/uploads/2021/07/Festival-Wratislavia_Klangforum-Wien_1060x710.jpg
END:VEVENT
END:VCALENDAR