BEGIN:VCALENDAR
VERSION:2.0
PRODID:-//Klangforum Wien - ECPv5.10.0//NONSGML v1.0//EN
CALSCALE:GREGORIAN
METHOD:PUBLISH
X-WR-CALNAME:Klangforum Wien
X-ORIGINAL-URL:https://alt2.klangforum.at/en/
X-WR-CALDESC:Events for Klangforum Wien
BEGIN:VTIMEZONE
TZID:Europe/Berlin
BEGIN:DAYLIGHT
TZOFFSETFROM:+0100
TZOFFSETTO:+0200
TZNAME:CEST
DTSTART:20220327T010000
END:DAYLIGHT
BEGIN:STANDARD
TZOFFSETFROM:+0200
TZOFFSETTO:+0100
TZNAME:CET
DTSTART:20221030T010000
END:STANDARD
END:VTIMEZONE
BEGIN:VEVENT
DTSTART;TZID=Europe/Berlin:20221125T190000
DTEND;TZID=Europe/Berlin:20221125T203000
DTSTAMP:20260425T045018
CREATED:20220615T133715Z
LAST-MODIFIED:20220615T134455Z
UID:12052-1669402800-1669408200@alt2.klangforum.at
SUMMARY:Festival d’Automne à Paris – Pierrot Lunaire
DESCRIPTION:Festival d’Automne à Paris – Pierrot Lunaire \n   November 25\,\n19.00 - \n20.30 \n La Villette – Grande Halle\, Paris\, France \nA musical and literary piece\, Arnold Schönberg’s Pierrot lunaire is a prolific musical playground for Marlene Monteiro Freitas. Accompanied by musical director Ingo Metzmacher and singer Sofia Jernberg\, the director and choreographer shines a new light on Pierrot. \nThis is the second time Marlene Monteiro Freitas ventures into Arnold Schönberg’s universe\, with Pierrot lunaire\, commissioned by Wiener Festwochen\, bringing new challenges and opportunities. Though to him\, music and sound are shapeless “masses” which can be handled lightly of violently as one creates a piece\, Pierrot lunaire imposes specific guidance on each creator\, relating to ambiguities\, pauses\, ways of playing or acting. This also applies to the stage work\, derived from Albert Giraud’s cycle of poems. Schönberg’s “melodramatic” masterpiece—his words—is comprised of twenty-one songs and twenty-one pieces. Over a century after its inception\, it collides with Monteiro Freitas’s constantly inventive universe. Musical director Ingo Metzmacher and experimental singer Sofia Jernberg embark on this ever-changing journey with her\, in an artistic companionship that brings out Schönberg’s modernity. \nGet your ticket hereWebsite EventArnold Schönberg \n– Pierrot lunaire op. 21 \nSofia Jernberg\, voice\nMarlene Monteiro Freitas\, direction \nIngo Metzmacher \nArnold Schönberg
URL:https://alt2.klangforum.at/en/kalender/festival-dautomne-a-paris-pierrot-lunaire-1/
LOCATION:La Villette – Grande Halle\, 211\, avenue Jean-Jaurès 75019\, Paris\, France
CATEGORIES:Festival
ATTACH;FMTTYPE=image/x-citrix-jpeg:https://alt2.klangforum.at/wp-content/uploads/2022/06/medias_banner_image_865f79f970d0adc660b4a6501afca6e9.jpg
END:VEVENT
END:VCALENDAR