BEGIN:VCALENDAR
VERSION:2.0
PRODID:-//Klangforum Wien - ECPv5.10.0//NONSGML v1.0//EN
CALSCALE:GREGORIAN
METHOD:PUBLISH
X-WR-CALNAME:Klangforum Wien
X-ORIGINAL-URL:https://alt2.klangforum.at/en/
X-WR-CALDESC:Events for Klangforum Wien
BEGIN:VTIMEZONE
TZID:Europe/Berlin
BEGIN:DAYLIGHT
TZOFFSETFROM:+0100
TZOFFSETTO:+0200
TZNAME:CEST
DTSTART:20220327T010000
END:DAYLIGHT
BEGIN:STANDARD
TZOFFSETFROM:+0200
TZOFFSETTO:+0100
TZNAME:CET
DTSTART:20221030T010000
END:STANDARD
END:VTIMEZONE
BEGIN:VEVENT
DTSTART;TZID=Europe/Berlin:20221110T200000
DTEND;TZID=Europe/Berlin:20221110T200000
DTSTAMP:20260425T030551
CREATED:20220615T131314Z
LAST-MODIFIED:20221027T132124Z
UID:12014-1668110400-1668110400@alt2.klangforum.at
SUMMARY:Festival d’Automne à Paris – Das Lied von der Erde
DESCRIPTION:Festival d’Automne à Paris – Das Lied von der Erde \n   November 10\,\n20.00 - \n20.00 \n Théâtre du Châtelet\, Paris\, France \nCommissioned by Wiener Festwochen and in partnership with the Vienna Klangforum’s ensemble\, Philippe Quesne elegantly stages Gustav Mahler’s Song of the Earth (Das Lied von der Erde). This is a rare foray into a musical repertoire nostalgic of romanticism and cultivating an intimate bond to time and nature.  \nMahler composed Das Lied von der Erde in 1907. The song reflects Mahler’s later life struggles\, having left the Vienna Opera\, lost his eldest daughter\, and been diagnosed with heart disease. Interpreted by Reinbert de Leeuw’s chamber orchestra\, Song of the Earth is presented as a cycle of six songs for two soloists. The texts were inspired by Chinese poetry. In his no-frills staging of Mahler’s work\, Philippe Quesne presents a melancholic outlook on nature\, fueled by nostalgia for romanticism\, an era when people had a different relationship to time and nature\, which came to a brutal end as the 20th century began. Echoing in this giant chasm are the woes of the modern-day Anthropocene. To put together his ethereal décor\, Quesne\, a scenographer and director\, relies on elements such as rain and dirt\, as well as two paintings by Albert Bierstadt\, Mahler’s contemporary\, whose landscapes mirror the cycle of life.  \nPhoto: Martin Argyrologo \nGet your ticket hereWebsite EventGustav Mahler / Reinbert de Leeuw\n– Das Lied von der Erde \nChristina Daletska\, alt\nMaximilian Schmitt\, tenor \nEmilio Pomàrico \nGustav Mahler | Reinbert de Leeuw
URL:https://alt2.klangforum.at/en/kalender/festival-dautomne-a-paris-das-lied-von-der-erde-2/
LOCATION:Théâtre du Châtelet\, Paris\, France
CATEGORIES:Festival
ATTACH;FMTTYPE=image/x-citrix-jpeg:https://alt2.klangforum.at/wp-content/uploads/2022/06/©-Martin-Argyrologo.jpg
END:VEVENT
END:VCALENDAR