BEGIN:VCALENDAR
VERSION:2.0
PRODID:-//Klangforum Wien - ECPv5.10.0//NONSGML v1.0//EN
CALSCALE:GREGORIAN
METHOD:PUBLISH
X-WR-CALNAME:Klangforum Wien
X-ORIGINAL-URL:https://alt2.klangforum.at/en/
X-WR-CALDESC:Events for Klangforum Wien
BEGIN:VTIMEZONE
TZID:Europe/Berlin
BEGIN:DAYLIGHT
TZOFFSETFROM:+0100
TZOFFSETTO:+0200
TZNAME:CEST
DTSTART:20210328T010000
END:DAYLIGHT
BEGIN:STANDARD
TZOFFSETFROM:+0200
TZOFFSETTO:+0100
TZNAME:CET
DTSTART:20211031T010000
END:STANDARD
END:VTIMEZONE
BEGIN:VEVENT
DTSTART;TZID=Europe/Berlin:20211015T110000
DTEND;TZID=Europe/Berlin:20211015T110000
DTSTAMP:20260424T125235
CREATED:20210823T121735Z
LAST-MODIFIED:20210825T095905Z
UID:7468-1634295600-1634295600@alt2.klangforum.at
SUMMARY:Donaueschingen Musiktage
DESCRIPTION:15. Oktober 2021\, 13.00 \n         \n\n\nCarolina Noguera Palau – Ferocious: Contorting femininities (UA)Rodolfo Acosta– las flores subterráneasNima E. Rowshan– Propinquity (UA)Andile Khumalo– The Broken Mirrors of Time (UA) \n\n\n\nConductor: Bas Wiegers \n\n	\n		\n		FacebookTwitterLinkedInWhatsAppVkEmail
URL:https://alt2.klangforum.at/en/kalender/donaueschingen-musiktage-2/
LOCATION:Realschule Donaueschingen\, Lehenstraße 15\, Donaueschingen\, 78166\, Deutschland
CATEGORIES:Concert
ATTACH;FMTTYPE=image/x-citrix-jpeg:https://alt2.klangforum.at/wp-content/uploads/2021/08/donaueschinger-musiktage-2018-symbolbild-100__v-img__16__9__xl_-d31c35f8186ebeb80b0cd843a7c267a0e0c81647.jpg
END:VEVENT
END:VCALENDAR