BEGIN:VCALENDAR
VERSION:2.0
PRODID:-//Klangforum Wien - ECPv5.10.0//NONSGML v1.0//EN
CALSCALE:GREGORIAN
METHOD:PUBLISH
X-WR-CALNAME:Klangforum Wien
X-ORIGINAL-URL:https://alt2.klangforum.at/en/
X-WR-CALDESC:Events for Klangforum Wien
BEGIN:VTIMEZONE
TZID:Europe/Berlin
BEGIN:DAYLIGHT
TZOFFSETFROM:+0100
TZOFFSETTO:+0200
TZNAME:CEST
DTSTART:20220327T010000
END:DAYLIGHT
BEGIN:STANDARD
TZOFFSETFROM:+0200
TZOFFSETTO:+0100
TZNAME:CET
DTSTART:20221030T010000
END:STANDARD
END:VTIMEZONE
BEGIN:VEVENT
DTSTART;TZID=Europe/Berlin:20220131T193000
DTEND;TZID=Europe/Berlin:20220131T193000
DTSTAMP:20260422T120615
CREATED:20211217T103914Z
LAST-MODIFIED:20220126T101925Z
UID:9275-1643657400-1643657400@alt2.klangforum.at
SUMMARY:CNDM Concert Series
DESCRIPTION:CNDM Concert Series \n   January 31\,\n19.30 - \n19.30 \n Museo Nacional Centro de Arte Reina  Sofía\, Madrid\, Spanien \nTwo decades of uninterrupted activity transformed Klangforum Wien into an international demanded ensemble. On this occasion they play under the direction of CNDM resident composer Mauricio Sotelo\, who will lead the ensemble through a program with works of famous composers\, including himself. On his tour he is accompanied by Olga Neuwirth\, a composer who repeatedly surprises with electricity\, Bernhard Lang\, whose work is inspired by various sources\, such as classic\, jazz\, rock or techno and Beat Furrer\, co-founder of Klangforum Wien. An ideal opportunity to get to know the production of Sotelo and of his Austrian surroundings. \nGet your ticket hereWebsite EventMauricio Sotelo\n— De Imaginum\, signorum\, et idearum compositione I \nOlga Neuwirth\n— CoronAtion I: io sono ferito ahimé \nMauricio Sotelo\n— De Magia \nBernhard Lang\n— DW 21 \nMauricio Sotelo\n— De Imaginum\, signorum\, et idearum compositione II (UA) \nBeat Furrer\n— Klavierquartett (UA) \nMauricio Sotelo  \nMauricio Sotelo | Olga Neuwirth | Bernhard Lang | Beat Furrer
URL:https://alt2.klangforum.at/en/kalender/cndm-concert-series/
LOCATION:Museo Nacional Centro de Arte Reina  Sofía\, Rda. de Atocha\, 2\, Madrid\, 28012\, Spanien
CATEGORIES:Concert
ATTACH;FMTTYPE=image/x-citrix-jpeg:https://alt2.klangforum.at/wp-content/uploads/2021/12/Mauricio-Sotelo_-1060x710px.jpg
END:VEVENT
END:VCALENDAR