BEGIN:VCALENDAR
VERSION:2.0
PRODID:-//Klangforum Wien - ECPv5.10.0//NONSGML v1.0//EN
CALSCALE:GREGORIAN
METHOD:PUBLISH
X-WR-CALNAME:Klangforum Wien
X-ORIGINAL-URL:https://alt2.klangforum.at/en/
X-WR-CALDESC:Events for Klangforum Wien
BEGIN:VTIMEZONE
TZID:Europe/Berlin
BEGIN:DAYLIGHT
TZOFFSETFROM:+0100
TZOFFSETTO:+0200
TZNAME:CEST
DTSTART:20220327T010000
END:DAYLIGHT
BEGIN:STANDARD
TZOFFSETFROM:+0200
TZOFFSETTO:+0100
TZNAME:CET
DTSTART:20221030T010000
END:STANDARD
END:VTIMEZONE
BEGIN:VEVENT
DTSTART;TZID=Europe/Berlin:20221025T203000
DTEND;TZID=Europe/Berlin:20221025T220000
DTSTAMP:20260424T155929
CREATED:20220325T112213Z
LAST-MODIFIED:20220325T120532Z
UID:11001-1666729800-1666735200@alt2.klangforum.at
SUMMARY:Breath
DESCRIPTION:Breath \n   October 25\,\n20.30 - \n22.00 \n Wiener Konzerthaus\, Mozart-Saal\, Vienna\, Austria \n«Ses souffles – son corps – son jour» («his breath – his body – his day»). With these enigmatic words by Arthur Rimbaud in mind\, the ensemble is gazing into a silent chasm from which Franck Bedrossian’s shimmering new sounds are rising to the surface. \nThe concert from our cycle series BRUCH.PUNKT will take place at two starting times: 6:00 pm + 8:30 pm. \nBetween the concerts – FERMATE\nIn our new conversation format\, personalities from various disciplines together with artists and musicians question what they have just heard. \nGet your ticket hereWebsite EventFranck Bedrossian\n– Le lieu et la formule\nMalin Bång\n– blooming brume EA\nBeat Furrer\n– Klarinettenkonzert EA \nBernhard Zachhuber\, clarinet \nClement Power \nFranck Bedrossian | Malin Bang | Beat Furrer
URL:https://alt2.klangforum.at/en/kalender/breath/
LOCATION:Wiener Konzerthaus\, Mozart-Saal\, Lothringerstraße 20\, Vienna\, 1030\, Austria
CATEGORIES:Bruch.Punkt Cycle 2022/23,Subscription Series
ATTACH;FMTTYPE=image/x-citrix-jpeg:https://alt2.klangforum.at/wp-content/uploads/2022/03/KF-Kalender1070x710-1-1.jpg
END:VEVENT
END:VCALENDAR