BEGIN:VCALENDAR
VERSION:2.0
PRODID:-//Klangforum Wien - ECPv5.10.0//NONSGML v1.0//EN
CALSCALE:GREGORIAN
METHOD:PUBLISH
X-WR-CALNAME:Klangforum Wien
X-ORIGINAL-URL:https://alt2.klangforum.at/en/
X-WR-CALDESC:Events for Klangforum Wien
BEGIN:VTIMEZONE
TZID:Europe/Berlin
BEGIN:DAYLIGHT
TZOFFSETFROM:+0100
TZOFFSETTO:+0200
TZNAME:CEST
DTSTART:20210328T010000
END:DAYLIGHT
BEGIN:STANDARD
TZOFFSETFROM:+0200
TZOFFSETTO:+0100
TZNAME:CET
DTSTART:20211031T010000
END:STANDARD
END:VTIMEZONE
BEGIN:VEVENT
DTSTART;TZID=Europe/Berlin:20210311T180000
DTEND;TZID=Europe/Berlin:20210311T203000
DTSTAMP:20260424T232535
CREATED:20201026T200311Z
LAST-MODIFIED:20201209T130834Z
UID:3284-1615485600-1615494600@alt2.klangforum.at
SUMMARY:Auratic Movements
DESCRIPTION:1st concert: 6 pm2nd concert: 8.30 pm \n\n\nThe specific sound produced is not everything. The musicians with their facial expressions\, gestures\, and their instruments open the door to the auratic effect of music. \n\n\n\n\n \n\n\n\nProgram: \n\n\n\n\n\n \n\n\n\nNimikry— MIDI Aura\, World PremiereAlexander Schubert— Point OnesAuratic Horizons— New works from Finland\, World Premiere \n\n\n\nFlorian Bogner & Peter Böhm\, sound designPatrick Hahn\, conductor \n\n\n	\n		\n		FacebookTwitterLinkedInWhatsAppVkEmail
URL:https://alt2.klangforum.at/en/kalender/auratic-movements/
LOCATION:Wiener Konzerthaus\, Mozart-Saal\, Lothringerstraße 20\, Vienna\, 1030\, Austria
CATEGORIES:Subscription Series
ATTACH;FMTTYPE=image/jpeg:https://alt2.klangforum.at/wp-content/uploads/2020/09/Nimikry-scaled.jpg
END:VEVENT
END:VCALENDAR