BEGIN:VCALENDAR
VERSION:2.0
PRODID:-//Klangforum Wien - ECPv5.10.0//NONSGML v1.0//EN
CALSCALE:GREGORIAN
METHOD:PUBLISH
X-WR-CALNAME:Klangforum Wien
X-ORIGINAL-URL:https://alt2.klangforum.at/en/
X-WR-CALDESC:Events for Klangforum Wien
BEGIN:VTIMEZONE
TZID:Europe/Berlin
BEGIN:DAYLIGHT
TZOFFSETFROM:+0100
TZOFFSETTO:+0200
TZNAME:CEST
DTSTART:20210328T010000
END:DAYLIGHT
BEGIN:STANDARD
TZOFFSETFROM:+0200
TZOFFSETTO:+0100
TZNAME:CET
DTSTART:20211031T010000
END:STANDARD
END:VTIMEZONE
BEGIN:VEVENT
DTSTART;TZID=Europe/Berlin:20210427T180000
DTEND;TZID=Europe/Berlin:20210427T203000
DTSTAMP:20260424T185810
CREATED:20201026T195713Z
LAST-MODIFIED:20201209T130220Z
UID:3270-1619546400-1619555400@alt2.klangforum.at
SUMMARY:Abandoned — Devastated
DESCRIPTION:1st concert: 6 pm2nd concert: 8.30 pm \n\n\nIn the loneliness of deserted landscapes\, the devastation of one’s own thinking emerges. \n\n\n\n\n \n\n\n\nProgram: \n\n\n\n\n\n \n\n\n\nChristian Winther Christensen — New work\, World PremiereBeat Furrer — Concert for clarinet and ensemble\, Austrian PremiereMirela Ivičević — New work\, Austrian PremiereAureliano Cattaneo — Deserti per ensemble\, Austrian Premiere \n\n\n\nBernhard Zachhuber\, clarinetTitus Engel\, conductor \n\n\n	\n		\n		FacebookTwitterLinkedInWhatsAppVkEmail
URL:https://alt2.klangforum.at/en/kalender/abandoned-devastated/
LOCATION:Wiener Konzerthaus\, Mozart-Saal\, Lothringerstraße 20\, Vienna\, 1030\, Austria
CATEGORIES:Subscription Series
ATTACH;FMTTYPE=image/jpeg:https://alt2.klangforum.at/wp-content/uploads/2020/09/Didi_Sattmann-2-scaled.jpg
END:VEVENT
END:VCALENDAR